View In:
ArcGIS JavaScript
ArcGIS Online Map Viewer
ArcGIS Earth
ArcGIS Pro
Service Description: Probabilistic seismic-hazard maps were prepared for Hawaii portraying peak horizontal acceleration and horizontal spectral response acceleration for 0.2- and 1.0-second periods with probabilities of exceedance of 10 percent in 50 years and 2 percent in 50 years. This particular data set is for horizontal spectral response acceleration for 0.2-second period with a 10 percent probability of exceedance in 50 years. All of the maps were prepared by combining the hazard derived from spatially smoothed historic seismicity with the hazard from fault-specific sources. The acceleration values contoured are the random horizontal component. The reference site condition is firm rock, defined as having an average shear-wave velocity of 760 m/sec in the top 30 meters corresponding to the boundary between NEHRP (National Earthquake Hazards Reduction program) site classes B and C.
For more information online visit:
http://pubs.er.usgs.gov/publication/i2724,
http://bssa.geoscienceworld.org/content/91/3/479, and http://earthquake.usgs.gov/hazards/
Map Name: HI_5Hz_10PercentIn50Years
Legend
All Layers and Tables
Layers:
-
1:1,128 (L1) (0)
-
1:2,257 (L2) (5)
-
1:4,514 (L3) (10)
-
1:9,028 (L4) (15)
-
1:18,056 (L5) (20)
-
1:36,112 (L6) (25)
-
1:72,224 (L7) (30)
-
1:144,448 (L8) (35)
-
1:288,895 (L9) (40)
-
1:577,791 (L10) (45)
-
1:1,155,581 (L11) (50)
-
1:2,311,162 (L12) (55)
-
1:4,622,324 (L13) (60)
-
1:9,244,649 (L14) (64)
-
1:18,489,298 (L15) (68)
-
1:36,978,595 (L16) (72)
Tables:
Description:
Copyright Text: US Geological Survey National Seismic Hazard Mapping Program
Spatial Reference:
102100
(3857)
LatestVCSWkid(0)
Single Fused Map Cache: true
Tile Info:
- Height: 256.0
- Width: 256.0
- DPI: 96.0
-
Levels of Detail: 20
-
Level ID: 1
[ Start Tile, End Tile ]
- Resolution: 78271.5169639999
- Scale: 2.95828763795777E8
-
Level ID: 2
[ Start Tile, End Tile ]
- Resolution: 39135.7584820001
- Scale: 1.47914381897889E8
-
Level ID: 3
[ Start Tile, End Tile ]
- Resolution: 19567.8792409999
- Scale: 7.3957190948944E7
-
Level ID: 4
[ Start Tile, End Tile ]
- Resolution: 9783.93962049996
- Scale: 3.6978595474472E7
-
Level ID: 5
[ Start Tile, End Tile ]
- Resolution: 4891.96981024998
- Scale: 1.8489297737236E7
- Format: PNG
- Compression Quality: 0.0
- Origin: X: -2.0037508342787E7
Y: 2.0037508342787E7
- Spatial Reference: 102100
(3857)
LatestVCSWkid(0)
Storage Info:
- Storage Format: esriMapCacheStorageModeCompactV2
- Packet Size: 128
Initial Extent:
XMin: -1.797302718944928E7
YMin: 2220549.9775796034
XMax: -1.7092612410431907E7
YMax: 2675852.523169683
Spatial Reference: 102100
(3857)
LatestVCSWkid(0)
Full Extent:
XMin: -1.792243801771705E7
YMin: 2037548.5447506013
XMax: -1.7143201582164135E7
YMax: 2632018.637586425
Spatial Reference: 102100
(3857)
LatestVCSWkid(0)
Units: esriMeters
Supported Image Format Types: PNG32,PNG24,PNG,JPG,DIB,TIFF,EMF,PS,PDF,GIF,SVG,SVGZ,BMP
Document Info:
Title: HI 5Hz 10% in 50 years
Author: Ken Rukstales (rukstales@usgs.gov)
Comments: Probabilistic seismic-hazard maps were prepared for Hawaii portraying peak horizontal acceleration and horizontal spectral response acceleration for 0.2- and 1.0-second periods with probabilities of exceedance of 10 percent in 50 years and 2 percent in 50 years. This particular data set is for horizontal spectral response acceleration for 0.2-second period with a 10 percent probability of exceedance in 50 years. All of the maps were prepared by combining the hazard derived from spatially smoothed historic seismicity with the hazard from fault-specific sources. The acceleration values contoured are the random horizontal component. The reference site condition is firm rock, defined as having an average shear-wave velocity of 760 m/sec in the top 30 meters corresponding to the boundary between NEHRP (National Earthquake Hazards Reduction program) site classes B and C.
For more information online visit:
http://pubs.er.usgs.gov/publication/i2724,
http://bssa.geoscienceworld.org/content/91/3/479, and http://earthquake.usgs.gov/hazards/
Subject: Horizontal Spectral Response Acceleration for 0.2-second Period with 10% Probability of Exceedance in 50 Years (1998)
Category:
Keywords: earthquake,hazard,5Hz,0.2-second,seismic,Hawaii
AntialiasingMode: Best
TextAntialiasingMode: Force
Supports Dynamic Layers: false
Resampling: false
MaxRecordCount: 1000
MaxSelectionCount: 2000
MaxImageHeight: 4096
MaxImageWidth: 4096
Supported Query Formats: JSON, geoJSON, PBF
Supports Query Data Elements: true
Min Scale: 5.91657527591555E8
Max Scale: 36111.909643
Supports Datum Transformation: true
Child Resources:
Info
Supported Operations:
Export Map
Identify
QueryLegends
QueryDomains
Find
Return Updates
Generate KML