{
 "currentVersion": 10.61,
 "serviceDescription": "Probabilistic seismic-hazard maps were prepared for Hawaii portraying peak horizontal acceleration and horizontal spectral response acceleration for 0.2- and 1.0-second periods with probabilities of exceedance of 10 percent in 50 years and 2 percent in 50 years. This particular data set is for horizontal spectral response acceleration for 0.2-second period with a 2 percent probability of exceedance in 50 years. All of the maps were prepared by combining the hazard derived from spatially smoothed historic seismicity with the hazard from fault-specific sources. The acceleration values contoured are the random horizontal component. The reference site condition is firm rock, defined as having an average shear-wave velocity of 760 m/sec in the top 30 meters corresponding to the boundary between NEHRP (National Earthquake Hazards Reduction program) site classes B and C.\n\nFor more information online visit:\nhttp://pubs.er.usgs.gov/publication/i2724,\nhttp://bssa.geoscienceworld.org/content/91/3/479, and \nhttp://earthquake.usgs.gov/hazards/",
 "mapName": "HI_5Hz_2PercentIn50Years",
 "description": "",
 "copyrightText": "US Geological Survey National Seismic Hazard Mapping Program",
 "supportsDynamicLayers": false,
 "layers": [
  {
   "id": 0,
   "name": "1:1,128 (L1)",
   "parentLayerId": -1,
   "defaultVisibility": true,
   "subLayerIds": [
    1,
    2,
    3,
    4
   ],
   "minScale": 1691,
   "maxScale": 0
  },
  {
   "id": 1,
   "name": "HI5hz250 1:5M arc",
   "parentLayerId": 0,
   "defaultVisibility": true,
   "subLayerIds": null,
   "minScale": 0,
   "maxScale": 0
  },
  {
   "id": 2,
   "name": "HIcounty_arcL1",
   "parentLayerId": 0,
   "defaultVisibility": true,
   "subLayerIds": null,
   "minScale": 0,
   "maxScale": 0
  },
  {
   "id": 3,
   "name": "HIcoast_arcL1",
   "parentLayerId": 0,
   "defaultVisibility": true,
   "subLayerIds": null,
   "minScale": 0,
   "maxScale": 0
  },
  {
   "id": 4,
   "name": "HI5hz250 1:5M poly",
   "parentLayerId": 0,
   "defaultVisibility": true,
   "subLayerIds": null,
   "minScale": 0,
   "maxScale": 0
  },
  {
   "id": 5,
   "name": "1:2,257 (L2)",
   "parentLayerId": -1,
   "defaultVisibility": true,
   "subLayerIds": [
    6,
    7,
    8,
    9
   ],
   "minScale": 3385,
   "maxScale": 1692
  },
  {
   "id": 6,
   "name": "HI5hz250 1:5M arc",
   "parentLayerId": 5,
   "defaultVisibility": true,
   "subLayerIds": null,
   "minScale": 0,
   "maxScale": 0
  },
  {
   "id": 7,
   "name": "HIcounty_arcL1",
   "parentLayerId": 5,
   "defaultVisibility": true,
   "subLayerIds": null,
   "minScale": 0,
   "maxScale": 0
  },
  {
   "id": 8,
   "name": "HIcoast_arcL1",
   "parentLayerId": 5,
   "defaultVisibility": true,
   "subLayerIds": null,
   "minScale": 0,
   "maxScale": 0
  },
  {
   "id": 9,
   "name": "HI5hz250 1:5M poly",
   "parentLayerId": 5,
   "defaultVisibility": true,
   "subLayerIds": null,
   "minScale": 0,
   "maxScale": 0
  },
  {
   "id": 10,
   "name": "1:4,514 (L3)",
   "parentLayerId": -1,
   "defaultVisibility": true,
   "subLayerIds": [
    11,
    12,
    13,
    14
   ],
   "minScale": 6770,
   "maxScale": 3386
  },
  {
   "id": 11,
   "name": "HI5hz250 1:5M arc",
   "parentLayerId": 10,
   "defaultVisibility": true,
   "subLayerIds": null,
   "minScale": 0,
   "maxScale": 0
  },
  {
   "id": 12,
   "name": "HIcounty_arcL1",
   "parentLayerId": 10,
   "defaultVisibility": true,
   "subLayerIds": null,
   "minScale": 0,
   "maxScale": 0
  },
  {
   "id": 13,
   "name": "HIcoast_arcL1",
   "parentLayerId": 10,
   "defaultVisibility": true,
   "subLayerIds": null,
   "minScale": 0,
   "maxScale": 0
  },
  {
   "id": 14,
   "name": "HI5hz250 1:5M poly",
   "parentLayerId": 10,
   "defaultVisibility": true,
   "subLayerIds": null,
   "minScale": 0,
   "maxScale": 0
  },
  {
   "id": 15,
   "name": "1:9,028 (L4)",
   "parentLayerId": -1,
   "defaultVisibility": true,
   "subLayerIds": [
    16,
    17,
    18,
    19
   ],
   "minScale": 13541,
   "maxScale": 6771
  },
  {
   "id": 16,
   "name": "HI5hz250 1:5M arc",
   "parentLayerId": 15,
   "defaultVisibility": true,
   "subLayerIds": null,
   "minScale": 0,
   "maxScale": 0
  },
  {
   "id": 17,
   "name": "HIcounty_arcL1",
   "parentLayerId": 15,
   "defaultVisibility": true,
   "subLayerIds": null,
   "minScale": 0,
   "maxScale": 0
  },
  {
   "id": 18,
   "name": "HIcoast_arcL1",
   "parentLayerId": 15,
   "defaultVisibility": true,
   "subLayerIds": null,
   "minScale": 0,
   "maxScale": 0
  },
  {
   "id": 19,
   "name": "HI5hz250 1:5M poly",
   "parentLayerId": 15,
   "defaultVisibility": true,
   "subLayerIds": null,
   "minScale": 0,
   "maxScale": 0
  },
  {
   "id": 20,
   "name": "1:18,056 (L5)",
   "parentLayerId": -1,
   "defaultVisibility": true,
   "subLayerIds": [
    21,
    22,
    23,
    24
   ],
   "minScale": 27083,
   "maxScale": 13542
  },
  {
   "id": 21,
   "name": "HI5hz250 1:5M arc",
   "parentLayerId": 20,
   "defaultVisibility": true,
   "subLayerIds": null,
   "minScale": 0,
   "maxScale": 0
  },
  {
   "id": 22,
   "name": "HIcounty_arcL1",
   "parentLayerId": 20,
   "defaultVisibility": true,
   "subLayerIds": null,
   "minScale": 0,
   "maxScale": 0
  },
  {
   "id": 23,
   "name": "HIcoast_arcL1",
   "parentLayerId": 20,
   "defaultVisibility": true,
   "subLayerIds": null,
   "minScale": 0,
   "maxScale": 0
  },
  {
   "id": 24,
   "name": "HI5hz250 1:5M poly",
   "parentLayerId": 20,
   "defaultVisibility": true,
   "subLayerIds": null,
   "minScale": 0,
   "maxScale": 0
  },
  {
   "id": 25,
   "name": "1:36,112 (L6)",
   "parentLayerId": -1,
   "defaultVisibility": true,
   "subLayerIds": [
    26,
    27,
    28,
    29
   ],
   "minScale": 54167,
   "maxScale": 27084
  },
  {
   "id": 26,
   "name": "HI5hz250 1:5M arc",
   "parentLayerId": 25,
   "defaultVisibility": true,
   "subLayerIds": null,
   "minScale": 0,
   "maxScale": 0
  },
  {
   "id": 27,
   "name": "HIcounty_arcL1",
   "parentLayerId": 25,
   "defaultVisibility": true,
   "subLayerIds": null,
   "minScale": 0,
   "maxScale": 0
  },
  {
   "id": 28,
   "name": "HIcoast_arcL1",
   "parentLayerId": 25,
   "defaultVisibility": true,
   "subLayerIds": null,
   "minScale": 0,
   "maxScale": 0
  },
  {
   "id": 29,
   "name": "HI5hz250 1:5M poly",
   "parentLayerId": 25,
   "defaultVisibility": true,
   "subLayerIds": null,
   "minScale": 0,
   "maxScale": 0
  },
  {
   "id": 30,
   "name": "1:72,224 (L7)",
   "parentLayerId": -1,
   "defaultVisibility": true,
   "subLayerIds": [
    31,
    32,
    33,
    34
   ],
   "minScale": 108335,
   "maxScale": 54168
  },
  {
   "id": 31,
   "name": "HI5hz250 1:5M arc",
   "parentLayerId": 30,
   "defaultVisibility": true,
   "subLayerIds": null,
   "minScale": 0,
   "maxScale": 0
  },
  {
   "id": 32,
   "name": "HIcounty_arcL1",
   "parentLayerId": 30,
   "defaultVisibility": true,
   "subLayerIds": null,
   "minScale": 0,
   "maxScale": 0
  },
  {
   "id": 33,
   "name": "HIcoast_arcL1",
   "parentLayerId": 30,
   "defaultVisibility": true,
   "subLayerIds": null,
   "minScale": 0,
   "maxScale": 0
  },
  {
   "id": 34,
   "name": "HI5hz250 1:5M poly",
   "parentLayerId": 30,
   "defaultVisibility": true,
   "subLayerIds": null,
   "minScale": 0,
   "maxScale": 0
  },
  {
   "id": 35,
   "name": "1:144,448 (L8)",
   "parentLayerId": -1,
   "defaultVisibility": true,
   "subLayerIds": [
    36,
    37,
    38,
    39
   ],
   "minScale": 216671,
   "maxScale": 108336
  },
  {
   "id": 36,
   "name": "HI5hz250 1:5M arc",
   "parentLayerId": 35,
   "defaultVisibility": true,
   "subLayerIds": null,
   "minScale": 0,
   "maxScale": 0
  },
  {
   "id": 37,
   "name": "HIcounty_arcL1",
   "parentLayerId": 35,
   "defaultVisibility": true,
   "subLayerIds": null,
   "minScale": 0,
   "maxScale": 0
  },
  {
   "id": 38,
   "name": "Hicoast_arcL1",
   "parentLayerId": 35,
   "defaultVisibility": true,
   "subLayerIds": null,
   "minScale": 0,
   "maxScale": 0
  },
  {
   "id": 39,
   "name": "HI5hz250 1:5M poly",
   "parentLayerId": 35,
   "defaultVisibility": true,
   "subLayerIds": null,
   "minScale": 0,
   "maxScale": 0
  },
  {
   "id": 40,
   "name": "1:288,895 (L9)",
   "parentLayerId": -1,
   "defaultVisibility": true,
   "subLayerIds": [
    41,
    42,
    43,
    44
   ],
   "minScale": 433342,
   "maxScale": 216672
  },
  {
   "id": 41,
   "name": "HI5hz250 1:5M arc",
   "parentLayerId": 40,
   "defaultVisibility": true,
   "subLayerIds": null,
   "minScale": 0,
   "maxScale": 0
  },
  {
   "id": 42,
   "name": "HIcounty_arcL1",
   "parentLayerId": 40,
   "defaultVisibility": true,
   "subLayerIds": null,
   "minScale": 0,
   "maxScale": 0
  },
  {
   "id": 43,
   "name": "HIcoast_arcL1",
   "parentLayerId": 40,
   "defaultVisibility": true,
   "subLayerIds": null,
   "minScale": 0,
   "maxScale": 0
  },
  {
   "id": 44,
   "name": "HI5hz250 1:5M poly",
   "parentLayerId": 40,
   "defaultVisibility": true,
   "subLayerIds": null,
   "minScale": 0,
   "maxScale": 0
  },
  {
   "id": 45,
   "name": "1:577,791 (L10)",
   "parentLayerId": -1,
   "defaultVisibility": true,
   "subLayerIds": [
    46,
    47,
    48,
    49
   ],
   "minScale": 866686,
   "maxScale": 433343
  },
  {
   "id": 46,
   "name": "HI5hz250 1:5M arc",
   "parentLayerId": 45,
   "defaultVisibility": true,
   "subLayerIds": null,
   "minScale": 0,
   "maxScale": 0
  },
  {
   "id": 47,
   "name": "HIcounty_arcL10",
   "parentLayerId": 45,
   "defaultVisibility": true,
   "subLayerIds": null,
   "minScale": 0,
   "maxScale": 0
  },
  {
   "id": 48,
   "name": "HIcoast_arcL1",
   "parentLayerId": 45,
   "defaultVisibility": true,
   "subLayerIds": null,
   "minScale": 0,
   "maxScale": 0
  },
  {
   "id": 49,
   "name": "HI5hz250 1:5M poly",
   "parentLayerId": 45,
   "defaultVisibility": true,
   "subLayerIds": null,
   "minScale": 0,
   "maxScale": 0
  },
  {
   "id": 50,
   "name": "1:1,155,581 (L11)",
   "parentLayerId": -1,
   "defaultVisibility": true,
   "subLayerIds": [
    51,
    52,
    53,
    54
   ],
   "minScale": 1733371,
   "maxScale": 866687
  },
  {
   "id": 51,
   "name": "HI5hz250 1:5M arc",
   "parentLayerId": 50,
   "defaultVisibility": true,
   "subLayerIds": null,
   "minScale": 0,
   "maxScale": 0
  },
  {
   "id": 52,
   "name": "HIcounty_arcL10",
   "parentLayerId": 50,
   "defaultVisibility": true,
   "subLayerIds": null,
   "minScale": 0,
   "maxScale": 0
  },
  {
   "id": 53,
   "name": "HIcoast_arcL1",
   "parentLayerId": 50,
   "defaultVisibility": true,
   "subLayerIds": null,
   "minScale": 0,
   "maxScale": 0
  },
  {
   "id": 54,
   "name": "HI5hz250 1:5M poly",
   "parentLayerId": 50,
   "defaultVisibility": true,
   "subLayerIds": null,
   "minScale": 0,
   "maxScale": 0
  },
  {
   "id": 55,
   "name": "1:2,311,162 (L12)",
   "parentLayerId": -1,
   "defaultVisibility": true,
   "subLayerIds": [
    56,
    57,
    58,
    59
   ],
   "minScale": 3466742,
   "maxScale": 1733372
  },
  {
   "id": 56,
   "name": "HI5hz250 1:5M arc",
   "parentLayerId": 55,
   "defaultVisibility": true,
   "subLayerIds": null,
   "minScale": 0,
   "maxScale": 0
  },
  {
   "id": 57,
   "name": "HIcounty_arc",
   "parentLayerId": 55,
   "defaultVisibility": true,
   "subLayerIds": null,
   "minScale": 0,
   "maxScale": 0
  },
  {
   "id": 58,
   "name": "HIcoast_arcL12",
   "parentLayerId": 55,
   "defaultVisibility": true,
   "subLayerIds": null,
   "minScale": 0,
   "maxScale": 0
  },
  {
   "id": 59,
   "name": "HI5hz250 1:5M poly",
   "parentLayerId": 55,
   "defaultVisibility": true,
   "subLayerIds": null,
   "minScale": 0,
   "maxScale": 0
  },
  {
   "id": 60,
   "name": "1:4,622,324 (L13)",
   "parentLayerId": -1,
   "defaultVisibility": true,
   "subLayerIds": [
    61,
    62,
    63
   ],
   "minScale": 6933485,
   "maxScale": 3466743
  },
  {
   "id": 61,
   "name": "HI5hz250 1:5M arc",
   "parentLayerId": 60,
   "defaultVisibility": true,
   "subLayerIds": null,
   "minScale": 0,
   "maxScale": 0
  },
  {
   "id": 62,
   "name": "HIcoast_arcL12",
   "parentLayerId": 60,
   "defaultVisibility": true,
   "subLayerIds": null,
   "minScale": 0,
   "maxScale": 0
  },
  {
   "id": 63,
   "name": "HI5hz250 1:5M poly",
   "parentLayerId": 60,
   "defaultVisibility": true,
   "subLayerIds": null,
   "minScale": 0,
   "maxScale": 0
  },
  {
   "id": 64,
   "name": "1:9,244,649 (L14)",
   "parentLayerId": -1,
   "defaultVisibility": true,
   "subLayerIds": [
    65,
    66,
    67
   ],
   "minScale": 13866972,
   "maxScale": 6933486
  },
  {
   "id": 65,
   "name": "HI5hz250 1:10M arc",
   "parentLayerId": 64,
   "defaultVisibility": true,
   "subLayerIds": null,
   "minScale": 0,
   "maxScale": 0
  },
  {
   "id": 66,
   "name": "HIcoast_arcL12",
   "parentLayerId": 64,
   "defaultVisibility": true,
   "subLayerIds": null,
   "minScale": 0,
   "maxScale": 0
  },
  {
   "id": 67,
   "name": "HI5hz250 1:10M poly",
   "parentLayerId": 64,
   "defaultVisibility": true,
   "subLayerIds": null,
   "minScale": 0,
   "maxScale": 0
  },
  {
   "id": 68,
   "name": "1:18,489,298 (L15)",
   "parentLayerId": -1,
   "defaultVisibility": true,
   "subLayerIds": [
    69,
    70,
    71
   ],
   "minScale": 27733945,
   "maxScale": 13866973
  },
  {
   "id": 69,
   "name": "HI5hz250 1:15M arc",
   "parentLayerId": 68,
   "defaultVisibility": true,
   "subLayerIds": null,
   "minScale": 0,
   "maxScale": 0
  },
  {
   "id": 70,
   "name": "HIcoast_arcL12",
   "parentLayerId": 68,
   "defaultVisibility": true,
   "subLayerIds": null,
   "minScale": 0,
   "maxScale": 0
  },
  {
   "id": 71,
   "name": "HI5hz250 1:15M poly",
   "parentLayerId": 68,
   "defaultVisibility": true,
   "subLayerIds": null,
   "minScale": 0,
   "maxScale": 0
  },
  {
   "id": 72,
   "name": "1:36,978,595 (L16)",
   "parentLayerId": -1,
   "defaultVisibility": true,
   "subLayerIds": [
    73,
    74,
    75
   ],
   "minScale": 0,
   "maxScale": 27733946
  },
  {
   "id": 73,
   "name": "HI5hz250 1:15M arc",
   "parentLayerId": 72,
   "defaultVisibility": true,
   "subLayerIds": null,
   "minScale": 0,
   "maxScale": 0
  },
  {
   "id": 74,
   "name": "HIcoast_arcL12",
   "parentLayerId": 72,
   "defaultVisibility": true,
   "subLayerIds": null,
   "minScale": 0,
   "maxScale": 0
  },
  {
   "id": 75,
   "name": "HI5hz250 1:15M poly",
   "parentLayerId": 72,
   "defaultVisibility": true,
   "subLayerIds": null,
   "minScale": 0,
   "maxScale": 0
  }
 ],
 "tables": [
  {
   "id": 76,
   "name": "ds5hz050_10M"
  },
  {
   "id": 77,
   "name": "ds5hz050_15M"
  },
  {
   "id": 78,
   "name": "ds5hz050_5M"
  },
  {
   "id": 79,
   "name": "ds5hz250_10M"
  },
  {
   "id": 80,
   "name": "ds5hz250_15M"
  },
  {
   "id": 81,
   "name": "ds5hz250_5M"
  }
 ],
 "spatialReference": {
  "wkid": 102100,
  "latestWkid": 3857
 },
 "singleFusedMapCache": true,
 "tileInfo": {
  "rows": 256,
  "cols": 256,
  "dpi": 96,
  "format": "PNG",
  "compressionQuality": 0,
  "origin": {
   "x": -2.0037508342787E7,
   "y": 2.0037508342787E7
  },
  "spatialReference": {
   "wkid": 102100,
   "latestWkid": 3857
  },
  "lods": [
   {
    "level": 0,
    "resolution": 156543.033928,
    "scale": 5.91657527591555E8
   },
   {
    "level": 1,
    "resolution": 78271.5169639999,
    "scale": 2.95828763795777E8
   },
   {
    "level": 2,
    "resolution": 39135.7584820001,
    "scale": 1.47914381897889E8
   },
   {
    "level": 3,
    "resolution": 19567.8792409999,
    "scale": 7.3957190948944E7
   },
   {
    "level": 4,
    "resolution": 9783.93962049996,
    "scale": 3.6978595474472E7
   },
   {
    "level": 5,
    "resolution": 4891.96981024998,
    "scale": 1.8489297737236E7
   },
   {
    "level": 6,
    "resolution": 2445.98490512499,
    "scale": 9244648.868618
   },
   {
    "level": 7,
    "resolution": 1222.99245256249,
    "scale": 4622324.434309
   },
   {
    "level": 8,
    "resolution": 611.49622628138,
    "scale": 2311162.217155
   },
   {
    "level": 9,
    "resolution": 305.748113140558,
    "scale": 1155581.108577
   },
   {
    "level": 10,
    "resolution": 152.874056570411,
    "scale": 577790.554289
   },
   {
    "level": 11,
    "resolution": 76.4370282850732,
    "scale": 288895.277144
   },
   {
    "level": 12,
    "resolution": 38.2185141425366,
    "scale": 144447.638572
   },
   {
    "level": 13,
    "resolution": 19.1092570712683,
    "scale": 72223.819286
   },
   {
    "level": 14,
    "resolution": 9.55462853563415,
    "scale": 36111.909643
   },
   {
    "level": 15,
    "resolution": 4.77731426794937,
    "scale": 18055.954822
   },
   {
    "level": 16,
    "resolution": 2.38865713397468,
    "scale": 9027.977411
   },
   {
    "level": 17,
    "resolution": 1.19432856685505,
    "scale": 4513.988705
   },
   {
    "level": 18,
    "resolution": 0.597164283559817,
    "scale": 2256.994353
   },
   {
    "level": 19,
    "resolution": 0.298582141647617,
    "scale": 1128.497176
   }
  ]
 },
 "initialExtent": {
  "xmin": -1.797302718944928E7,
  "ymin": 2233197.2705126624,
  "xmax": -1.7092612410431907E7,
  "ymax": 2688499.8161027418,
  "spatialReference": {
   "cs": "pcs",
   "wkid": 102100
  }
 },
 "fullExtent": {
  "xmin": -1.792243801771705E7,
  "ymin": 2037548.5447506013,
  "xmax": -1.7143201582164135E7,
  "ymax": 2632018.637586425,
  "spatialReference": {
   "cs": "pcs",
   "wkid": 102100
  }
 },
 "minScale": 5.91657527591555E8,
 "maxScale": 36111.909643,
 "units": "esriMeters",
 "supportedImageFormatTypes": "PNG32,PNG24,PNG,JPG,DIB,TIFF,EMF,PS,PDF,GIF,SVG,SVGZ,BMP",
 "documentInfo": {
  "Title": "HI 5Hz 2% in 50 years",
  "Author": "Ken Rukstales (rukstales@usgs.gov)",
  "Comments": "Probabilistic seismic-hazard maps were prepared for Hawaii portraying peak horizontal acceleration and horizontal spectral response acceleration for 0.2- and 1.0-second periods with probabilities of exceedance of 10 percent in 50 years and 2 percent in 50 years. This particular data set is for horizontal spectral response acceleration for 0.2-second period with a 2 percent probability of exceedance in 50 years. All of the maps were prepared by combining the hazard derived from spatially smoothed historic seismicity with the hazard from fault-specific sources. The acceleration values contoured are the random horizontal component. The reference site condition is firm rock, defined as having an average shear-wave velocity of 760 m/sec in the top 30 meters corresponding to the boundary between NEHRP (National Earthquake Hazards Reduction program) site classes B and C.\n\nFor more information online visit:\nhttp://pubs.er.usgs.gov/publication/i2724,\nhttp://bssa.geoscienceworld.org/content/91/3/479, and \nhttp://earthquake.usgs.gov/hazards/",
  "Subject": "Horizontal Spectral Response Acceleration for 0.2-second Period with 2% Probability of Exceedance in 50 Years (1998)",
  "Category": "",
  "AntialiasingMode": "Best",
  "TextAntialiasingMode": "Force",
  "Keywords": "earthquake,hazard,5Hz,0.2-second,seismic,Hawaii"
 },
 "capabilities": "Map,Query,Data",
 "supportedQueryFormats": "JSON, AMF, geoJSON",
 "exportTilesAllowed": false,
 "datumTransformations": [
  {
   "geoTransforms": [
    {
     "wkid": 108001,
     "latestWkid": 1241,
     "transformForward": true,
     "name": "NAD_1927_To_NAD_1983_NADCON"
    }
   ]
  },
  {
   "geoTransforms": [
    {
     "wkid": 108001,
     "latestWkid": 1241,
     "transformForward": false,
     "name": "NAD_1927_To_NAD_1983_NADCON"
    }
   ]
  }
 ],
 "supportsDatumTransformation": true,
 "maxRecordCount": 1000,
 "maxImageHeight": 4096,
 "maxImageWidth": 4096,
 "supportedExtensions": "KmlServer, WMSServer"
}
